BEGIN:VCALENDAR
VERSION:2.0
PRODID:https://Dresden-Stadt.tischtennislive.de
METHOD:PUBLISH
X-WR-CALNAME:TischtennisLive-Spieltermine
X-WR-TIMEZONE:Europe/Berlin
BEGIN:VEVENT
UID: W4S_96_997487
ORGANIZER;CN="Ronny Bartsch":MAILTO:NoReply@TischtennisLive.de
SUMMARY:TTC Elbe Dresden 4 - SV Sachsenw. Dresden (2.Stadtklasse Jugend 15)
DESCRIPTION:TTC Elbe Dresden 4 - SV Sachsenw. Dresden (2.Stadtklasse Jugend 15)
LOCATION:Turnhalle der 113. Grundschule, Georg-Nerlich-Str. 1, 01307, Dresden
CLASS:PUBLIC
DTSTART:20250919T150000Z
DTEND:20250919T173000Z
DTSTAMP:20260423T175039Z
END:VEVENT
BEGIN:VEVENT
UID: W4S_96_997492
ORGANIZER;CN="Ronny Bartsch":MAILTO:NoReply@TischtennisLive.de
SUMMARY:Dresdner SV GW - SV Sachsenw. Dresden (2.Stadtklasse Jugend 15)
DESCRIPTION:Dresdner SV GW - SV Sachsenw. Dresden (2.Stadtklasse Jugend 15)
LOCATION:Turnhalle 113. GS, Georg-Nerlich-Str. 1, 01307, Dresden
CLASS:PUBLIC
DTSTART:20251022T151500Z
DTEND:20251022T174500Z
DTSTAMP:20260423T175039Z
END:VEVENT
BEGIN:VEVENT
UID: W4S_96_997498
ORGANIZER;CN="Ronny Bartsch":MAILTO:NoReply@TischtennisLive.de
SUMMARY:SV Sachsenw. Dresden - SG Mot. Trachenberge (2.Stadtklasse Jugend 15)
DESCRIPTION:SV Sachsenw. Dresden - SG Mot. Trachenberge (2.Stadtklasse Jugend 15)
LOCATION:Schule am Landgraben, Pirnaer Landstr. 55, 01257, Dresden
CLASS:PUBLIC
DTSTART:20251107T160000Z
DTEND:20251107T183000Z
DTSTAMP:20260423T175039Z
END:VEVENT
BEGIN:VEVENT
UID: W4S_96_997490
ORGANIZER;CN="Ronny Bartsch":MAILTO:NoReply@TischtennisLive.de
SUMMARY:SV Sachsenw. Dresden - SSV Turbine Dresden 2 (2.Stadtklasse Jugend 15)
DESCRIPTION:SV Sachsenw. Dresden - SSV Turbine Dresden 2 (2.Stadtklasse Jugend 15)
LOCATION:Schule am Landgraben, Pirnaer Landstr. 55, 01257, Dresden
CLASS:PUBLIC
DTSTART:20251114T160000Z
DTEND:20251114T183000Z
DTSTAMP:20260423T175039Z
END:VEVENT
BEGIN:VEVENT
UID: W4S_96_997503
ORGANIZER;CN="Ronny Bartsch":MAILTO:NoReply@TischtennisLive.de
SUMMARY:TTV BW Zschachwitz - SV Sachsenw. Dresden (2.Stadtklasse Jugend 15)
DESCRIPTION:TTV BW Zschachwitz - SV Sachsenw. Dresden (2.Stadtklasse Jugend 15)
LOCATION:TH der 64. Mittelschule, Linzer Straße 1, 01279, Dresden
CLASS:PUBLIC
DTSTART:20251126T170000Z
DTEND:20251126T193000Z
DTSTAMP:20260423T175039Z
END:VEVENT
BEGIN:VEVENT
UID: W4S_96_997504
ORGANIZER;CN="Ronny Bartsch":MAILTO:NoReply@TischtennisLive.de
SUMMARY:SG Dresdner Bank - SV Sachsenw. Dresden (2.Stadtklasse Jugend 15)
DESCRIPTION:SG Dresdner Bank - SV Sachsenw. Dresden (2.Stadtklasse Jugend 15)
LOCATION:TH der Schule für Erziehungshilfe (ehem. 130. GS), Karl-Laux-Strasse 5, 01219, Dresden
CLASS:PUBLIC
DTSTART:20251203T163000Z
DTEND:20251203T190000Z
DTSTAMP:20260423T175039Z
END:VEVENT
BEGIN:VEVENT
UID: W4S_96_997510
ORGANIZER;CN="Ronny Bartsch":MAILTO:NoReply@TischtennisLive.de
SUMMARY:SV Sachsenw. Dresden - Sportfreunde Dresden 2 (2.Stadtklasse Jugend 15)
DESCRIPTION:SV Sachsenw. Dresden - Sportfreunde Dresden 2 (2.Stadtklasse Jugend 15)
LOCATION:Schule am Landgraben, Pirnaer Landstr. 55, 01257, Dresden
CLASS:PUBLIC
DTSTART:20251212T160000Z
DTEND:20251212T183000Z
DTSTAMP:20260423T175039Z
END:VEVENT
BEGIN:VEVENT
UID: W4S_96_997515
ORGANIZER;CN="Ronny Bartsch":MAILTO:NoReply@TischtennisLive.de
SUMMARY:SV Sachsenw. Dresden - TTC Elbe Dresden 4 (2.Stadtklasse Jugend 15)
DESCRIPTION:SV Sachsenw. Dresden - TTC Elbe Dresden 4 (2.Stadtklasse Jugend 15)
LOCATION:Schule am Landgraben, Pirnaer Landstr. 55, 01257, Dresden
CLASS:PUBLIC
DTSTART:20260122T160000Z
DTEND:20260122T183000Z
DTSTAMP:20260423T175039Z
END:VEVENT
BEGIN:VEVENT
UID: W4S_96_997518
ORGANIZER;CN="Ronny Bartsch":MAILTO:NoReply@TischtennisLive.de
SUMMARY:SSV Turbine Dresden 2 - SV Sachsenw. Dresden (2.Stadtklasse Jugend 15)
DESCRIPTION:SSV Turbine Dresden 2 - SV Sachsenw. Dresden (2.Stadtklasse Jugend 15)
LOCATION:Funktionsgebäude Turbine, Pfotenhauerstr.79 Eingang Neubertstraße, 01307, Dresden
CLASS:PUBLIC
DTSTART:20260129T153000Z
DTEND:20260129T180000Z
DTSTAMP:20260423T175039Z
END:VEVENT
BEGIN:VEVENT
UID: W4S_96_997531
ORGANIZER;CN="Ronny Bartsch":MAILTO:NoReply@TischtennisLive.de
SUMMARY:SV Sachsenw. Dresden - TTV BW Zschachwitz (2.Stadtklasse Jugend 15)
DESCRIPTION:SV Sachsenw. Dresden - TTV BW Zschachwitz (2.Stadtklasse Jugend 15)
LOCATION:Schule am Landgraben, Pirnaer Landstr. 55, 01257, Dresden
CLASS:PUBLIC
DTSTART:20260220T160000Z
DTEND:20260220T183000Z
DTSTAMP:20260423T175039Z
END:VEVENT
BEGIN:VEVENT
UID: W4S_96_997532
ORGANIZER;CN="Ronny Bartsch":MAILTO:NoReply@TischtennisLive.de
SUMMARY:SV Sachsenw. Dresden - SG Dresdner Bank (2.Stadtklasse Jugend 15)
DESCRIPTION:SV Sachsenw. Dresden - SG Dresdner Bank (2.Stadtklasse Jugend 15)
LOCATION:Schule am Landgraben, Pirnaer Landstr. 55, 01257, Dresden
CLASS:PUBLIC
DTSTART:20260226T160000Z
DTEND:20260226T183000Z
DTSTAMP:20260423T175039Z
END:VEVENT
BEGIN:VEVENT
UID: W4S_96_997538
ORGANIZER;CN="Ronny Bartsch":MAILTO:NoReply@TischtennisLive.de
SUMMARY:Sportfreunde Dresden 2 - SV Sachsenw. Dresden (2.Stadtklasse Jugend 15)
DESCRIPTION:Sportfreunde Dresden 2 - SV Sachsenw. Dresden (2.Stadtklasse Jugend 15)
LOCATION:55.MS, Plauenscher Ring 9, 01187, Dresden
CLASS:PUBLIC
DTSTART:20260302T160000Z
DTEND:20260302T183000Z
DTSTAMP:20260423T175039Z
END:VEVENT
BEGIN:VEVENT
UID: W4S_96_997520
ORGANIZER;CN="Ronny Bartsch":MAILTO:NoReply@TischtennisLive.de
SUMMARY:SV Sachsenw. Dresden - Dresdner SV GW (2.Stadtklasse Jugend 15)
DESCRIPTION:SV Sachsenw. Dresden - Dresdner SV GW (2.Stadtklasse Jugend 15)
LOCATION:Schule am Landgraben, Pirnaer Landstr. 55, 01257, Dresden
CLASS:PUBLIC
DTSTART:20260312T160000Z
DTEND:20260312T183000Z
DTSTAMP:20260423T175039Z
END:VEVENT
BEGIN:VEVENT
UID: W4S_96_997526
ORGANIZER;CN="Ronny Bartsch":MAILTO:NoReply@TischtennisLive.de
SUMMARY:SG Mot. Trachenberge - SV Sachsenw. Dresden (2.Stadtklasse Jugend 15)
DESCRIPTION:SG Mot. Trachenberge - SV Sachsenw. Dresden (2.Stadtklasse Jugend 15)
LOCATION:Turnhalle der 15. GS, Görlitzer Straße 
CLASS:PUBLIC
DTSTART:20260319T153000Z
DTEND:20260319T180000Z
DTSTAMP:20260423T175039Z
END:VEVENT
END:VCALENDAR

