BEGIN:VCALENDAR
VERSION:2.0
PRODID:https://Dresden-Stadt.tischtennislive.de
METHOD:PUBLISH
X-WR-CALNAME:TischtennisLive-Spieltermine
X-WR-TIMEZONE:Europe/Berlin
BEGIN:VEVENT
UID: W4S_96_965296
ORGANIZER;CN="Bernd Steigemann":MAILTO:NoReply@TischtennisLive.de
SUMMARY:SV Sachsenw. Dresden 8 - SV Dresden-Reick 2 (6. Stadtklasse Erwachsene, Gruppe 1)
DESCRIPTION:SV Sachsenw. Dresden 8 - SV Dresden-Reick 2 (6. Stadtklasse Erwachsene, Gruppe 1)
LOCATION:Schule am Landgraben, Pirnaer Landstr. 55, 01257, Dresden
CLASS:PUBLIC
DTSTART:20250908T173000Z
DTEND:20250908T200000Z
DTSTAMP:20260423T175044Z
END:VEVENT
BEGIN:VEVENT
UID: W4S_96_965299
ORGANIZER;CN="Bernd Steigemann":MAILTO:NoReply@TischtennisLive.de
SUMMARY:VfB Hellerau-Klotz. 8 - SV Sachsenw. Dresden 8 (6. Stadtklasse Erwachsene, Gruppe 1)
DESCRIPTION:VfB Hellerau-Klotz. 8 - SV Sachsenw. Dresden 8 (6. Stadtklasse Erwachsene, Gruppe 1)
LOCATION:Sporthalle, Karl-Liebknecht-Str. 53, 01109, Dresden
CLASS:PUBLIC
DTSTART:20250915T170000Z
DTEND:20250915T193000Z
DTSTAMP:20260423T175044Z
END:VEVENT
BEGIN:VEVENT
UID: W4S_96_965307
ORGANIZER;CN="Bernd Steigemann":MAILTO:NoReply@TischtennisLive.de
SUMMARY:SV Sachsenw. Dresden 8 - TSV Rotation Dresden 4 (6. Stadtklasse Erwachsene, Gruppe 1)
DESCRIPTION:SV Sachsenw. Dresden 8 - TSV Rotation Dresden 4 (6. Stadtklasse Erwachsene, Gruppe 1)
LOCATION:Schule am Landgraben, Pirnaer Landstr. 55, 01257, Dresden
CLASS:PUBLIC
DTSTART:20250922T173000Z
DTEND:20250922T200000Z
DTSTAMP:20260423T175044Z
END:VEVENT
BEGIN:VEVENT
UID: W4S_96_965309
ORGANIZER;CN="Bernd Steigemann":MAILTO:NoReply@TischtennisLive.de
SUMMARY:TSV 1862 Radeburg 8 - SV Sachsenw. Dresden 8 (6. Stadtklasse Erwachsene, Gruppe 1)
DESCRIPTION:TSV 1862 Radeburg 8 - SV Sachsenw. Dresden 8 (6. Stadtklasse Erwachsene, Gruppe 1)
LOCATION:Turnhalle der Grundschule Radeburg, Meißner Berg 80, 01471, Radeburg
CLASS:PUBLIC
DTSTART:20251021T173000Z
DTEND:20251021T200000Z
DTSTAMP:20260423T175044Z
END:VEVENT
BEGIN:VEVENT
UID: W4S_96_965315
ORGANIZER;CN="Bernd Steigemann":MAILTO:NoReply@TischtennisLive.de
SUMMARY:TTC Elbe Dresden 14 - SV Sachsenw. Dresden 8 (6. Stadtklasse Erwachsene, Gruppe 1)
DESCRIPTION:TTC Elbe Dresden 14 - SV Sachsenw. Dresden 8 (6. Stadtklasse Erwachsene, Gruppe 1)
LOCATION:Turnhalle der 113. Grundschule, Georg-Nerlich-Str. 1, 01307, Dresden
CLASS:PUBLIC
DTSTART:20251029T180000Z
DTEND:20251029T203000Z
DTSTAMP:20260423T175044Z
END:VEVENT
BEGIN:VEVENT
UID: W4S_96_965322
ORGANIZER;CN="Bernd Steigemann":MAILTO:NoReply@TischtennisLive.de
SUMMARY:SV Sachsenw. Dresden 8 - TTV Radebeul 6 (6. Stadtklasse Erwachsene, Gruppe 1)
DESCRIPTION:SV Sachsenw. Dresden 8 - TTV Radebeul 6 (6. Stadtklasse Erwachsene, Gruppe 1)
LOCATION:Schule am Landgraben, Pirnaer Landstr. 55, 01257, Dresden
CLASS:PUBLIC
DTSTART:20251103T183000Z
DTEND:20251103T210000Z
DTSTAMP:20260423T175044Z
END:VEVENT
BEGIN:VEVENT
UID: W4S_96_965328
ORGANIZER;CN="Bernd Steigemann":MAILTO:NoReply@TischtennisLive.de
SUMMARY:SG Versehrte Dresden 3 - SV Sachsenw. Dresden 8 (6. Stadtklasse Erwachsene, Gruppe 1)
DESCRIPTION:SG Versehrte Dresden 3 - SV Sachsenw. Dresden 8 (6. Stadtklasse Erwachsene, Gruppe 1)
LOCATION:TH der 120. Grundschule, Trattendorfer Str. 1
CLASS:PUBLIC
DTSTART:20251114T183000Z
DTEND:20251114T210000Z
DTSTAMP:20260423T175044Z
END:VEVENT
BEGIN:VEVENT
UID: W4S_96_965332
ORGANIZER;CN="Bernd Steigemann":MAILTO:NoReply@TischtennisLive.de
SUMMARY:SV Sachsenw. Dresden 8 - KTV Langebrück 3 (6. Stadtklasse Erwachsene, Gruppe 1)
DESCRIPTION:SV Sachsenw. Dresden 8 - KTV Langebrück 3 (6. Stadtklasse Erwachsene, Gruppe 1)
LOCATION:Schule am Landgraben, Pirnaer Landstr. 55, 01257, Dresden
CLASS:PUBLIC
DTSTART:20251124T183000Z
DTEND:20251124T210000Z
DTSTAMP:20260423T175044Z
END:VEVENT
BEGIN:VEVENT
UID: W4S_96_965334
ORGANIZER;CN="Bernd Steigemann":MAILTO:NoReply@TischtennisLive.de
SUMMARY:TTV BW Zschachwitz 4 - SV Sachsenw. Dresden 8 (6. Stadtklasse Erwachsene, Gruppe 1)
DESCRIPTION:TTV BW Zschachwitz 4 - SV Sachsenw. Dresden 8 (6. Stadtklasse Erwachsene, Gruppe 1)
LOCATION:TH der 64. Mittelschule, Linzer Straße 1, 01279, Dresden
CLASS:PUBLIC
DTSTART:20251201T181500Z
DTEND:20251201T204500Z
DTSTAMP:20260423T175044Z
END:VEVENT
BEGIN:VEVENT
UID: W4S_96_965342
ORGANIZER;CN="Bernd Steigemann":MAILTO:NoReply@TischtennisLive.de
SUMMARY:SV Sachsenw. Dresden 8 - SSV Turbine Dresden 7 (6. Stadtklasse Erwachsene, Gruppe 1)
DESCRIPTION:SV Sachsenw. Dresden 8 - SSV Turbine Dresden 7 (6. Stadtklasse Erwachsene, Gruppe 1)
LOCATION:Schule am Landgraben, Pirnaer Landstr. 55, 01257, Dresden
CLASS:PUBLIC
DTSTART:20251208T183000Z
DTEND:20251208T210000Z
DTSTAMP:20260423T175044Z
END:VEVENT
BEGIN:VEVENT
UID: W4S_96_965352
ORGANIZER;CN="Bernd Steigemann":MAILTO:NoReply@TischtennisLive.de
SUMMARY:SV Sachsenw. Dresden 8 - TTC Elbe Dresden 14 (6. Stadtklasse Erwachsene, Gruppe 1)
DESCRIPTION:SV Sachsenw. Dresden 8 - TTC Elbe Dresden 14 (6. Stadtklasse Erwachsene, Gruppe 1)
LOCATION:Schule am Landgraben, Pirnaer Landstr. 55, 01257, Dresden
CLASS:PUBLIC
DTSTART:20260121T183000Z
DTEND:20260121T210000Z
DTSTAMP:20260423T175044Z
END:VEVENT
BEGIN:VEVENT
UID: W4S_96_965356
ORGANIZER;CN="Bernd Steigemann":MAILTO:NoReply@TischtennisLive.de
SUMMARY:SV Dresden-Reick 2 - SV Sachsenw. Dresden 8 (6. Stadtklasse Erwachsene, Gruppe 1)
DESCRIPTION:SV Dresden-Reick 2 - SV Sachsenw. Dresden 8 (6. Stadtklasse Erwachsene, Gruppe 1)
LOCATION:Turnhalle der 128. MS, Rudolf-Bergander-Ring 3, 01219, Dresden
CLASS:PUBLIC
DTSTART:20260128T180000Z
DTEND:20260128T203000Z
DTSTAMP:20260423T175044Z
END:VEVENT
BEGIN:VEVENT
UID: W4S_96_965361
ORGANIZER;CN="Bernd Steigemann":MAILTO:NoReply@TischtennisLive.de
SUMMARY:SV Sachsenw. Dresden 8 - VfB Hellerau-Klotz. 8 (6. Stadtklasse Erwachsene, Gruppe 1)
DESCRIPTION:SV Sachsenw. Dresden 8 - VfB Hellerau-Klotz. 8 (6. Stadtklasse Erwachsene, Gruppe 1)
LOCATION:Schule am Landgraben, Pirnaer Landstr. 55, 01257, Dresden
CLASS:PUBLIC
DTSTART:20260204T183000Z
DTEND:20260204T210000Z
DTSTAMP:20260423T175044Z
END:VEVENT
BEGIN:VEVENT
UID: W4S_96_965366
ORGANIZER;CN="Bernd Steigemann":MAILTO:NoReply@TischtennisLive.de
SUMMARY:TSV Rotation Dresden 4 - SV Sachsenw. Dresden 8 (6. Stadtklasse Erwachsene, Gruppe 1)
DESCRIPTION:TSV Rotation Dresden 4 - SV Sachsenw. Dresden 8 (6. Stadtklasse Erwachsene, Gruppe 1)
LOCATION:BSZ Wirtschaft Dresden "Prof. Dr. Zeigner", Tieckstraße 14, 01099, Dresden
CLASS:PUBLIC
DTSTART:20260225T184500Z
DTEND:20260225T211500Z
DTSTAMP:20260423T175044Z
END:VEVENT
BEGIN:VEVENT
UID: W4S_96_965372
ORGANIZER;CN="Bernd Steigemann":MAILTO:NoReply@TischtennisLive.de
SUMMARY:SV Sachsenw. Dresden 8 - TSV 1862 Radeburg 8 (6. Stadtklasse Erwachsene, Gruppe 1)
DESCRIPTION:SV Sachsenw. Dresden 8 - TSV 1862 Radeburg 8 (6. Stadtklasse Erwachsene, Gruppe 1)
LOCATION:Schule am Landgraben, Pirnaer Landstr. 55, 01257, Dresden
CLASS:PUBLIC
DTSTART:20260304T183000Z
DTEND:20260304T210000Z
DTSTAMP:20260423T175044Z
END:VEVENT
BEGIN:VEVENT
UID: W4S_96_965376
ORGANIZER;CN="Bernd Steigemann":MAILTO:NoReply@TischtennisLive.de
SUMMARY:TTV Radebeul 6 - SV Sachsenw. Dresden 8 (6. Stadtklasse Erwachsene, Gruppe 1)
DESCRIPTION:TTV Radebeul 6 - SV Sachsenw. Dresden 8 (6. Stadtklasse Erwachsene, Gruppe 1)
LOCATION:Turnhalle Roseggerhaus, Wasastraße 21, 01445, Radebeul
CLASS:PUBLIC
DTSTART:20260312T183000Z
DTEND:20260312T210000Z
DTSTAMP:20260423T175044Z
END:VEVENT
BEGIN:VEVENT
UID: W4S_96_965382
ORGANIZER;CN="Bernd Steigemann":MAILTO:NoReply@TischtennisLive.de
SUMMARY:SV Sachsenw. Dresden 8 - SG Versehrte Dresden 3 (6. Stadtklasse Erwachsene, Gruppe 1)
DESCRIPTION:SV Sachsenw. Dresden 8 - SG Versehrte Dresden 3 (6. Stadtklasse Erwachsene, Gruppe 1)
LOCATION:Schule am Landgraben, Pirnaer Landstr. 55, 01257, Dresden
CLASS:PUBLIC
DTSTART:20260318T183000Z
DTEND:20260318T210000Z
DTSTAMP:20260423T175044Z
END:VEVENT
BEGIN:VEVENT
UID: W4S_96_965392
ORGANIZER;CN="Bernd Steigemann":MAILTO:NoReply@TischtennisLive.de
SUMMARY:KTV Langebrück 3 - SV Sachsenw. Dresden 8 (6. Stadtklasse Erwachsene, Gruppe 1)
DESCRIPTION:KTV Langebrück 3 - SV Sachsenw. Dresden 8 (6. Stadtklasse Erwachsene, Gruppe 1)
LOCATION:Bürgerhaus Langebrück, Hauptstraße 4, 01465, Langebrück
CLASS:PUBLIC
DTSTART:20260320T183000Z
DTEND:20260320T210000Z
DTSTAMP:20260423T175044Z
END:VEVENT
BEGIN:VEVENT
UID: W4S_96_965386
ORGANIZER;CN="Bernd Steigemann":MAILTO:NoReply@TischtennisLive.de
SUMMARY:SSV Turbine Dresden 7 - SV Sachsenw. Dresden 8 (6. Stadtklasse Erwachsene, Gruppe 1)
DESCRIPTION:SSV Turbine Dresden 7 - SV Sachsenw. Dresden 8 (6. Stadtklasse Erwachsene, Gruppe 1)
LOCATION:Funktionsgebäude Turbine, Pfotenhauerstr.79 Eingang Neubertstraße, 01307, Dresden
CLASS:PUBLIC
DTSTART:20260327T180000Z
DTEND:20260327T203000Z
DTSTAMP:20260423T175044Z
END:VEVENT
BEGIN:VEVENT
UID: W4S_96_965397
ORGANIZER;CN="Bernd Steigemann":MAILTO:NoReply@TischtennisLive.de
SUMMARY:SV Sachsenw. Dresden 8 - TTV BW Zschachwitz 4 (6. Stadtklasse Erwachsene, Gruppe 1)
DESCRIPTION:SV Sachsenw. Dresden 8 - TTV BW Zschachwitz 4 (6. Stadtklasse Erwachsene, Gruppe 1)
LOCATION:Schule am Landgraben, Pirnaer Landstr. 55, 01257, Dresden
CLASS:PUBLIC
DTSTART:20260415T173000Z
DTEND:20260415T200000Z
DTSTAMP:20260423T175044Z
END:VEVENT
END:VCALENDAR

