BEGIN:VCALENDAR
VERSION:2.0
PRODID:https://Dresden-Stadt.tischtennislive.de
METHOD:PUBLISH
X-WR-CALNAME:TischtennisLive-Spieltermine
X-WR-TIMEZONE:Europe/Berlin
BEGIN:VEVENT
UID: W4S_96_965216
ORGANIZER;CN="Toralf Hoffmann":MAILTO:NoReply@TischtennisLive.de
SUMMARY:TTV Radebeul 5 - SV Sachsenw. Dresden 7 (5. Stadtklasse Erwachsene, Gruppe 2)
DESCRIPTION:TTV Radebeul 5 - SV Sachsenw. Dresden 7 (5. Stadtklasse Erwachsene, Gruppe 2)
LOCATION:TH GS Friedrich Schiller, Hauptstraße 10 (Eingang Pestalozzistraße), 01445, Radebeul
CLASS:PUBLIC
DTSTART:20250924T171500Z
DTEND:20250924T194500Z
DTSTAMP:20260423T172708Z
END:VEVENT
BEGIN:VEVENT
UID: W4S_96_965200
ORGANIZER;CN="Toralf Hoffmann":MAILTO:NoReply@TischtennisLive.de
SUMMARY:SV Sachsenw. Dresden 7 - SV Dresden-Loschwitz 4 (5. Stadtklasse Erwachsene, Gruppe 2)
DESCRIPTION:SV Sachsenw. Dresden 7 - SV Dresden-Loschwitz 4 (5. Stadtklasse Erwachsene, Gruppe 2)
LOCATION:Schule am Landgraben, Pirnaer Landstr. 55, 01257, Dresden
CLASS:PUBLIC
DTSTART:20250926T173000Z
DTEND:20250926T200000Z
DTSTAMP:20260423T172708Z
END:VEVENT
BEGIN:VEVENT
UID: W4S_96_965237
ORGANIZER;CN="Toralf Hoffmann":MAILTO:NoReply@TischtennisLive.de
SUMMARY:Sportfreunde Dresden 7 - SV Sachsenw. Dresden 7 (5. Stadtklasse Erwachsene, Gruppe 2)
DESCRIPTION:Sportfreunde Dresden 7 - SV Sachsenw. Dresden 7 (5. Stadtklasse Erwachsene, Gruppe 2)
LOCATION:55.MS, Plauenscher Ring 9, 01187, Dresden
CLASS:PUBLIC
DTSTART:20251016T173000Z
DTEND:20251016T200000Z
DTSTAMP:20260423T172708Z
END:VEVENT
BEGIN:VEVENT
UID: W4S_96_965208
ORGANIZER;CN="Toralf Hoffmann":MAILTO:NoReply@TischtennisLive.de
SUMMARY:TTV BW Zschachwitz 3 - SV Sachsenw. Dresden 7 (5. Stadtklasse Erwachsene, Gruppe 2)
DESCRIPTION:TTV BW Zschachwitz 3 - SV Sachsenw. Dresden 7 (5. Stadtklasse Erwachsene, Gruppe 2)
LOCATION:TH der 64. Mittelschule, Linzer Straße 1, 01279, Dresden
CLASS:PUBLIC
DTSTART:20251020T171500Z
DTEND:20251020T194500Z
DTSTAMP:20260423T172708Z
END:VEVENT
BEGIN:VEVENT
UID: W4S_96_965220
ORGANIZER;CN="Toralf Hoffmann":MAILTO:NoReply@TischtennisLive.de
SUMMARY:SV Sachsenw. Dresden 7 - TSV Leubnitz 7 (5. Stadtklasse Erwachsene, Gruppe 2)
DESCRIPTION:SV Sachsenw. Dresden 7 - TSV Leubnitz 7 (5. Stadtklasse Erwachsene, Gruppe 2)
LOCATION:Schule am Landgraben, Pirnaer Landstr. 55, 01257, Dresden
CLASS:PUBLIC
DTSTART:20251024T173000Z
DTEND:20251024T200000Z
DTSTAMP:20260423T172708Z
END:VEVENT
BEGIN:VEVENT
UID: W4S_96_965228
ORGANIZER;CN="Toralf Hoffmann":MAILTO:NoReply@TischtennisLive.de
SUMMARY:ESV Dresden 4 - SV Sachsenw. Dresden 7 (5. Stadtklasse Erwachsene, Gruppe 2)
DESCRIPTION:ESV Dresden 4 - SV Sachsenw. Dresden 7 (5. Stadtklasse Erwachsene, Gruppe 2)
LOCATION:kleine Turnhalle, Emerich-Ambros-Ufer 74, 01159, Dresden
CLASS:PUBLIC
DTSTART:20251106T183000Z
DTEND:20251106T210000Z
DTSTAMP:20260423T172708Z
END:VEVENT
BEGIN:VEVENT
UID: W4S_96_965230
ORGANIZER;CN="Toralf Hoffmann":MAILTO:NoReply@TischtennisLive.de
SUMMARY:SV Sachsenw. Dresden 7 - SV Motor Mickten-DD 8 (5. Stadtklasse Erwachsene, Gruppe 2)
DESCRIPTION:SV Sachsenw. Dresden 7 - SV Motor Mickten-DD 8 (5. Stadtklasse Erwachsene, Gruppe 2)
LOCATION:Schule am Landgraben, Pirnaer Landstr. 55, 01257, Dresden
CLASS:PUBLIC
DTSTART:20251114T183000Z
DTEND:20251114T210000Z
DTSTAMP:20260423T172708Z
END:VEVENT
BEGIN:VEVENT
UID: W4S_96_965211
ORGANIZER;CN="Toralf Hoffmann":MAILTO:NoReply@TischtennisLive.de
SUMMARY:SV Sachsenw. Dresden 7 - KTV Langebrück 2 (5. Stadtklasse Erwachsene, Gruppe 2)
DESCRIPTION:SV Sachsenw. Dresden 7 - KTV Langebrück 2 (5. Stadtklasse Erwachsene, Gruppe 2)
LOCATION:Schule am Landgraben, Pirnaer Landstr. 55, 01257, Dresden
CLASS:PUBLIC
DTSTART:20251121T183000Z
DTEND:20251121T210000Z
DTSTAMP:20260423T172708Z
END:VEVENT
BEGIN:VEVENT
UID: W4S_96_965241
ORGANIZER;CN="Toralf Hoffmann":MAILTO:NoReply@TischtennisLive.de
SUMMARY:SV Sachsenw. Dresden 7 - SV Dresden-Neustadt  5 (5. Stadtklasse Erwachsene, Gruppe 2)
DESCRIPTION:SV Sachsenw. Dresden 7 - SV Dresden-Neustadt  5 (5. Stadtklasse Erwachsene, Gruppe 2)
LOCATION:Schule am Landgraben, Pirnaer Landstr. 55, 01257, Dresden
CLASS:PUBLIC
DTSTART:20251205T183000Z
DTEND:20251205T210000Z
DTSTAMP:20260423T172708Z
END:VEVENT
BEGIN:VEVENT
UID: W4S_96_965244
ORGANIZER;CN="Toralf Hoffmann":MAILTO:NoReply@TischtennisLive.de
SUMMARY:SV Dresden-Loschwitz 4 - SV Sachsenw. Dresden 7 (5. Stadtklasse Erwachsene, Gruppe 2)
DESCRIPTION:SV Dresden-Loschwitz 4 - SV Sachsenw. Dresden 7 (5. Stadtklasse Erwachsene, Gruppe 2)
LOCATION:TH 120.GS "Am Geberbach", Trattendorfer Str. 1, 01239, Dresden
CLASS:PUBLIC
DTSTART:20260113T183000Z
DTEND:20260113T210000Z
DTSTAMP:20260423T172708Z
END:VEVENT
BEGIN:VEVENT
UID: W4S_96_965256
ORGANIZER;CN="Toralf Hoffmann":MAILTO:NoReply@TischtennisLive.de
SUMMARY:KTV Langebrück 2 - SV Sachsenw. Dresden 7 (5. Stadtklasse Erwachsene, Gruppe 2)
DESCRIPTION:KTV Langebrück 2 - SV Sachsenw. Dresden 7 (5. Stadtklasse Erwachsene, Gruppe 2)
LOCATION:Bürgerhaus Langebrück, Hauptstraße 4, 01465, Langebrück
CLASS:PUBLIC
DTSTART:20260121T183000Z
DTEND:20260121T210000Z
DTSTAMP:20260423T172708Z
END:VEVENT
BEGIN:VEVENT
UID: W4S_96_965250
ORGANIZER;CN="Toralf Hoffmann":MAILTO:NoReply@TischtennisLive.de
SUMMARY:SV Sachsenw. Dresden 7 - TTV BW Zschachwitz 3 (5. Stadtklasse Erwachsene, Gruppe 2)
DESCRIPTION:SV Sachsenw. Dresden 7 - TTV BW Zschachwitz 3 (5. Stadtklasse Erwachsene, Gruppe 2)
LOCATION:Schule am Landgraben, Pirnaer Landstr. 55, 01257, Dresden
CLASS:PUBLIC
DTSTART:20260128T183000Z
DTEND:20260128T210000Z
DTSTAMP:20260423T172708Z
END:VEVENT
BEGIN:VEVENT
UID: W4S_96_965260
ORGANIZER;CN="Toralf Hoffmann":MAILTO:NoReply@TischtennisLive.de
SUMMARY:SV Sachsenw. Dresden 7 - TTV Radebeul 5 (5. Stadtklasse Erwachsene, Gruppe 2)
DESCRIPTION:SV Sachsenw. Dresden 7 - TTV Radebeul 5 (5. Stadtklasse Erwachsene, Gruppe 2)
LOCATION:Schule am Landgraben, Pirnaer Landstr. 55, 01257, Dresden
CLASS:PUBLIC
DTSTART:20260225T183000Z
DTEND:20260225T210000Z
DTSTAMP:20260423T172708Z
END:VEVENT
BEGIN:VEVENT
UID: W4S_96_965265
ORGANIZER;CN="Toralf Hoffmann":MAILTO:NoReply@TischtennisLive.de
SUMMARY:TSV Leubnitz 7 - SV Sachsenw. Dresden 7 (5. Stadtklasse Erwachsene, Gruppe 2)
DESCRIPTION:TSV Leubnitz 7 - SV Sachsenw. Dresden 7 (5. Stadtklasse Erwachsene, Gruppe 2)
LOCATION:Turnhalle der 68.Grundschule Dresden, Heiligenbornstraße 15, 01219, Dresden
CLASS:PUBLIC
DTSTART:20260303T183000Z
DTEND:20260303T210000Z
DTSTAMP:20260423T172708Z
END:VEVENT
BEGIN:VEVENT
UID: W4S_96_965271
ORGANIZER;CN="Toralf Hoffmann":MAILTO:NoReply@TischtennisLive.de
SUMMARY:SV Sachsenw. Dresden 7 - ESV Dresden 4 (5. Stadtklasse Erwachsene, Gruppe 2)
DESCRIPTION:SV Sachsenw. Dresden 7 - ESV Dresden 4 (5. Stadtklasse Erwachsene, Gruppe 2)
LOCATION:Schule am Landgraben, Pirnaer Landstr. 55, 01257, Dresden
CLASS:PUBLIC
DTSTART:20260311T183000Z
DTEND:20260311T210000Z
DTSTAMP:20260423T172708Z
END:VEVENT
BEGIN:VEVENT
UID: W4S_96_965274
ORGANIZER;CN="Toralf Hoffmann":MAILTO:NoReply@TischtennisLive.de
SUMMARY:SV Motor Mickten-DD 8 - SV Sachsenw. Dresden 7 (5. Stadtklasse Erwachsene, Gruppe 2)
DESCRIPTION:SV Motor Mickten-DD 8 - SV Sachsenw. Dresden 7 (5. Stadtklasse Erwachsene, Gruppe 2)
LOCATION:Sportcenter Motor Mickten, Pestalozziplatz 20, 01127, Dresden
CLASS:PUBLIC
DTSTART:20260316T183000Z
DTEND:20260316T210000Z
DTSTAMP:20260423T172708Z
END:VEVENT
BEGIN:VEVENT
UID: W4S_96_965281
ORGANIZER;CN="Toralf Hoffmann":MAILTO:NoReply@TischtennisLive.de
SUMMARY:SV Sachsenw. Dresden 7 - Sportfreunde Dresden 7 (5. Stadtklasse Erwachsene, Gruppe 2)
DESCRIPTION:SV Sachsenw. Dresden 7 - Sportfreunde Dresden 7 (5. Stadtklasse Erwachsene, Gruppe 2)
LOCATION:Schule am Landgraben, Pirnaer Landstr. 55, 01257, Dresden
CLASS:PUBLIC
DTSTART:20260401T173000Z
DTEND:20260401T200000Z
DTSTAMP:20260423T172708Z
END:VEVENT
BEGIN:VEVENT
UID: W4S_96_965286
ORGANIZER;CN="Toralf Hoffmann":MAILTO:NoReply@TischtennisLive.de
SUMMARY:SV Dresden-Neustadt  5 - SV Sachsenw. Dresden 7 (5. Stadtklasse Erwachsene, Gruppe 2)
DESCRIPTION:SV Dresden-Neustadt  5 - SV Sachsenw. Dresden 7 (5. Stadtklasse Erwachsene, Gruppe 2)
LOCATION:Sporthalle Mengsstraße, Mengsstr. 21, 01139, Dresden
CLASS:PUBLIC
DTSTART:20260416T173000Z
DTEND:20260416T200000Z
DTSTAMP:20260423T172708Z
END:VEVENT
END:VCALENDAR

