BEGIN:VCALENDAR
VERSION:2.0
PRODID:https://Dresden-Stadt.tischtennislive.de
METHOD:PUBLISH
X-WR-CALNAME:TischtennisLive-Spieltermine
X-WR-TIMEZONE:Europe/Berlin
BEGIN:VEVENT
UID: W4S_96_957726
ORGANIZER;CN="Toralf Hoffmann":MAILTO:NoReply@TischtennisLive.de
SUMMARY:ESV Dresden 3 - SV Sachsenw. Dresden 6 (Pokal Erwachsene)
DESCRIPTION:ESV Dresden 3 - SV Sachsenw. Dresden 6 (Pokal Erwachsene)
LOCATION:kleine Turnhalle, Emerich-Ambros-Ufer 74, 01159, Dresden
CLASS:PUBLIC
DTSTART:20250828T173000Z
DTEND:20250828T200000Z
DTSTAMP:20260423T175003Z
END:VEVENT
BEGIN:VEVENT
UID: W4S_96_964992
ORGANIZER;CN="Diana Petters":MAILTO:NoReply@TischtennisLive.de
SUMMARY:SV Sachsenw. Dresden 6 - BSV AOK Dresden 3 (4. Stadtklasse Erwachsene, Gruppe 2)
DESCRIPTION:SV Sachsenw. Dresden 6 - BSV AOK Dresden 3 (4. Stadtklasse Erwachsene, Gruppe 2)
LOCATION:Schule am Landgraben, Pirnaer Landstr. 55, 01257, Dresden
CLASS:PUBLIC
DTSTART:20250901T173000Z
DTEND:20250901T200000Z
DTSTAMP:20260423T175003Z
END:VEVENT
BEGIN:VEVENT
UID: W4S_96_965000
ORGANIZER;CN="Diana Petters":MAILTO:NoReply@TischtennisLive.de
SUMMARY:SV Sachsenw. Dresden 6 - ESV Dresden 2 (4. Stadtklasse Erwachsene, Gruppe 2)
DESCRIPTION:SV Sachsenw. Dresden 6 - ESV Dresden 2 (4. Stadtklasse Erwachsene, Gruppe 2)
LOCATION:Schule am Landgraben, Pirnaer Landstr. 55, 01257, Dresden
CLASS:PUBLIC
DTSTART:20250915T170000Z
DTEND:20250915T193000Z
DTSTAMP:20260423T175003Z
END:VEVENT
BEGIN:VEVENT
UID: W4S_96_965006
ORGANIZER;CN="Diana Petters":MAILTO:NoReply@TischtennisLive.de
SUMMARY:TSV Rotation Dresden 3 - SV Sachsenw. Dresden 6 (4. Stadtklasse Erwachsene, Gruppe 2)
DESCRIPTION:TSV Rotation Dresden 3 - SV Sachsenw. Dresden 6 (4. Stadtklasse Erwachsene, Gruppe 2)
LOCATION:BSZ Wirtschaft Dresden "Prof. Dr. Zeigner", Tieckstraße 14, 01099, Dresden
CLASS:PUBLIC
DTSTART:20250926T170000Z
DTEND:20250926T193000Z
DTSTAMP:20260423T175003Z
END:VEVENT
BEGIN:VEVENT
UID: W4S_96_965008
ORGANIZER;CN="Diana Petters":MAILTO:NoReply@TischtennisLive.de
SUMMARY:SV Sachsenw. Dresden 6 - SSV Turbine Dresden 4 (4. Stadtklasse Erwachsene, Gruppe 2)
DESCRIPTION:SV Sachsenw. Dresden 6 - SSV Turbine Dresden 4 (4. Stadtklasse Erwachsene, Gruppe 2)
LOCATION:Schule am Landgraben, Pirnaer Landstr. 55, 01257, Dresden
CLASS:PUBLIC
DTSTART:20251020T170000Z
DTEND:20251020T193000Z
DTSTAMP:20260423T175003Z
END:VEVENT
BEGIN:VEVENT
UID: W4S_96_965015
ORGANIZER;CN="Diana Petters":MAILTO:NoReply@TischtennisLive.de
SUMMARY:TTV BW Zschachwitz 2 - SV Sachsenw. Dresden 6 (4. Stadtklasse Erwachsene, Gruppe 2)
DESCRIPTION:TTV BW Zschachwitz 2 - SV Sachsenw. Dresden 6 (4. Stadtklasse Erwachsene, Gruppe 2)
LOCATION:TH der 64. Mittelschule, Linzer Straße 1, 01279, Dresden
CLASS:PUBLIC
DTSTART:20251107T181500Z
DTEND:20251107T204500Z
DTSTAMP:20260423T175003Z
END:VEVENT
BEGIN:VEVENT
UID: W4S_96_965016
ORGANIZER;CN="Diana Petters":MAILTO:NoReply@TischtennisLive.de
SUMMARY:SV Sachsenw. Dresden 6 - SV Dresden-Neustadt  4 (4. Stadtklasse Erwachsene, Gruppe 2)
DESCRIPTION:SV Sachsenw. Dresden 6 - SV Dresden-Neustadt  4 (4. Stadtklasse Erwachsene, Gruppe 2)
LOCATION:Schule am Landgraben, Pirnaer Landstr. 55, 01257, Dresden
CLASS:PUBLIC
DTSTART:20251110T180000Z
DTEND:20251110T203000Z
DTSTAMP:20260423T175003Z
END:VEVENT
BEGIN:VEVENT
UID: W4S_96_964996
ORGANIZER;CN="Diana Petters":MAILTO:NoReply@TischtennisLive.de
SUMMARY:Radeberger SV 3 - SV Sachsenw. Dresden 6 (4. Stadtklasse Erwachsene, Gruppe 2)
DESCRIPTION:Radeberger SV 3 - SV Sachsenw. Dresden 6 (4. Stadtklasse Erwachsene, Gruppe 2)
LOCATION:TH der Ludwig-Richter Schule, Lotzdorfer Straße 51, 01454, Radeberg
CLASS:PUBLIC
DTSTART:20251117T180000Z
DTEND:20251117T203000Z
DTSTAMP:20260423T175003Z
END:VEVENT
BEGIN:VEVENT
UID: W4S_96_965025
ORGANIZER;CN="Diana Petters":MAILTO:NoReply@TischtennisLive.de
SUMMARY:TTV System-Haus DD 4 - SV Sachsenw. Dresden 6 (4. Stadtklasse Erwachsene, Gruppe 2)
DESCRIPTION:TTV System-Haus DD 4 - SV Sachsenw. Dresden 6 (4. Stadtklasse Erwachsene, Gruppe 2)
LOCATION:TH 44. GS, Salbachstr.10, 01279, Dresden
CLASS:PUBLIC
DTSTART:20251202T181500Z
DTEND:20251202T204500Z
DTSTAMP:20260423T175003Z
END:VEVENT
BEGIN:VEVENT
UID: W4S_96_965031
ORGANIZER;CN="Diana Petters":MAILTO:NoReply@TischtennisLive.de
SUMMARY:BSV AOK Dresden 3 - SV Sachsenw. Dresden 6 (4. Stadtklasse Erwachsene, Gruppe 2)
DESCRIPTION:BSV AOK Dresden 3 - SV Sachsenw. Dresden 6 (4. Stadtklasse Erwachsene, Gruppe 2)
LOCATION:117. Grundschule Dresden, Reichenbachstraße 12, 01069, Dresden
CLASS:PUBLIC
DTSTART:20260116T183000Z
DTEND:20260116T210000Z
DTSTAMP:20260423T175003Z
END:VEVENT
BEGIN:VEVENT
UID: W4S_96_965032
ORGANIZER;CN="Diana Petters":MAILTO:NoReply@TischtennisLive.de
SUMMARY:SV Sachsenw. Dresden 6 - Radeberger SV 3 (4. Stadtklasse Erwachsene, Gruppe 2)
DESCRIPTION:SV Sachsenw. Dresden 6 - Radeberger SV 3 (4. Stadtklasse Erwachsene, Gruppe 2)
LOCATION:Schule am Landgraben, Pirnaer Landstr. 55, 01257, Dresden
CLASS:PUBLIC
DTSTART:20260126T180000Z
DTEND:20260126T203000Z
DTSTAMP:20260423T175003Z
END:VEVENT
BEGIN:VEVENT
UID: W4S_96_965040
ORGANIZER;CN="Diana Petters":MAILTO:NoReply@TischtennisLive.de
SUMMARY:SV Sachsenw. Dresden 6 - TSV Rotation Dresden 3 (4. Stadtklasse Erwachsene, Gruppe 2)
DESCRIPTION:SV Sachsenw. Dresden 6 - TSV Rotation Dresden 3 (4. Stadtklasse Erwachsene, Gruppe 2)
LOCATION:Schule am Landgraben, Pirnaer Landstr. 55, 01257, Dresden
CLASS:PUBLIC
DTSTART:20260223T180000Z
DTEND:20260223T203000Z
DTSTAMP:20260423T175003Z
END:VEVENT
BEGIN:VEVENT
UID: W4S_96_965038
ORGANIZER;CN="Diana Petters":MAILTO:NoReply@TischtennisLive.de
SUMMARY:ESV Dresden 2 - SV Sachsenw. Dresden 6 (4. Stadtklasse Erwachsene, Gruppe 2)
DESCRIPTION:ESV Dresden 2 - SV Sachsenw. Dresden 6 (4. Stadtklasse Erwachsene, Gruppe 2)
LOCATION:kleine Turnhalle, Emerich-Ambros-Ufer 74, 01159, Dresden
CLASS:PUBLIC
DTSTART:20260227T180000Z
DTEND:20260227T203000Z
DTSTAMP:20260423T175003Z
END:VEVENT
BEGIN:VEVENT
UID: W4S_96_965044
ORGANIZER;CN="Diana Petters":MAILTO:NoReply@TischtennisLive.de
SUMMARY:SSV Turbine Dresden 4 - SV Sachsenw. Dresden 6 (4. Stadtklasse Erwachsene, Gruppe 2)
DESCRIPTION:SSV Turbine Dresden 4 - SV Sachsenw. Dresden 6 (4. Stadtklasse Erwachsene, Gruppe 2)
LOCATION:Funktionsgebäude Turbine, Pfotenhauerstr.79 Eingang Neubertstraße, 01307, Dresden
CLASS:PUBLIC
DTSTART:20260303T183000Z
DTEND:20260303T210000Z
DTSTAMP:20260423T175003Z
END:VEVENT
BEGIN:VEVENT
UID: W4S_96_965049
ORGANIZER;CN="Diana Petters":MAILTO:NoReply@TischtennisLive.de
SUMMARY:SV Sachsenw. Dresden 6 - TTV BW Zschachwitz 2 (4. Stadtklasse Erwachsene, Gruppe 2)
DESCRIPTION:SV Sachsenw. Dresden 6 - TTV BW Zschachwitz 2 (4. Stadtklasse Erwachsene, Gruppe 2)
LOCATION:Schule am Landgraben, Pirnaer Landstr. 55, 01257, Dresden
CLASS:PUBLIC
DTSTART:20260309T180000Z
DTEND:20260309T203000Z
DTSTAMP:20260423T175003Z
END:VEVENT
BEGIN:VEVENT
UID: W4S_96_965052
ORGANIZER;CN="Diana Petters":MAILTO:NoReply@TischtennisLive.de
SUMMARY:SV Dresden-Neustadt  4 - SV Sachsenw. Dresden 6 (4. Stadtklasse Erwachsene, Gruppe 2)
DESCRIPTION:SV Dresden-Neustadt  4 - SV Sachsenw. Dresden 6 (4. Stadtklasse Erwachsene, Gruppe 2)
LOCATION:Sporthalle Mengsstraße, Mengsstr. 21, 01139, Dresden
CLASS:PUBLIC
DTSTART:20260317T180000Z
DTEND:20260317T203000Z
DTSTAMP:20260423T175003Z
END:VEVENT
BEGIN:VEVENT
UID: W4S_96_965060
ORGANIZER;CN="Diana Petters":MAILTO:NoReply@TischtennisLive.de
SUMMARY:SV Sachsenw. Dresden 6 - TTV System-Haus DD 4 (4. Stadtklasse Erwachsene, Gruppe 2)
DESCRIPTION:SV Sachsenw. Dresden 6 - TTV System-Haus DD 4 (4. Stadtklasse Erwachsene, Gruppe 2)
LOCATION:Schule am Landgraben, Pirnaer Landstr. 55, 01257, Dresden
CLASS:PUBLIC
DTSTART:20260413T170000Z
DTEND:20260413T193000Z
DTSTAMP:20260423T175003Z
END:VEVENT
END:VCALENDAR

