BEGIN:VCALENDAR
VERSION:2.0
PRODID:https://Dresden-Stadt.tischtennislive.de
METHOD:PUBLISH
X-WR-CALNAME:TischtennisLive-Spieltermine
X-WR-TIMEZONE:Europe/Berlin
BEGIN:VEVENT
UID: W4S_96_957741
ORGANIZER;CN="Toralf Hoffmann":MAILTO:NoReply@TischtennisLive.de
SUMMARY:SV Sachsenw. Dresden 5 - TTV Radebeul 3 (Pokal Erwachsene)
DESCRIPTION:SV Sachsenw. Dresden 5 - TTV Radebeul 3 (Pokal Erwachsene)
LOCATION:Schule am Landgraben, Pirnaer Landstr. 55, 01257, Dresden
CLASS:PUBLIC
DTSTART:20250825T170000Z
DTEND:20250825T193000Z
DTSTAMP:20260423T175055Z
END:VEVENT
BEGIN:VEVENT
UID: W4S_96_964814
ORGANIZER;CN="Frank Kutter":MAILTO:NoReply@TischtennisLive.de
SUMMARY:SG Kleinnaundorf - SV Sachsenw. Dresden 5 (3. Stadtklasse Erwachsene, Gruppe 2)
DESCRIPTION:SG Kleinnaundorf - SV Sachsenw. Dresden 5 (3. Stadtklasse Erwachsene, Gruppe 2)
LOCATION:TH Freital Kleinnaundorf, Steigerstr. 4a-Parken vor der Sporthalle verboten, 01705, Freital
CLASS:PUBLIC
DTSTART:20250902T173000Z
DTEND:20250902T200000Z
DTSTAMP:20260423T175055Z
END:VEVENT
BEGIN:VEVENT
UID: W4S_96_964818
ORGANIZER;CN="Frank Kutter":MAILTO:NoReply@TischtennisLive.de
SUMMARY:SV Sachsenw. Dresden 5 - SV Universitätsk. DD 3 (3. Stadtklasse Erwachsene, Gruppe 2)
DESCRIPTION:SV Sachsenw. Dresden 5 - SV Universitätsk. DD 3 (3. Stadtklasse Erwachsene, Gruppe 2)
LOCATION:33. Grundschule, Schilfweg 3, 01237, Dresden
CLASS:PUBLIC
DTSTART:20250908T170000Z
DTEND:20250908T193000Z
DTSTAMP:20260423T175055Z
END:VEVENT
BEGIN:VEVENT
UID: W4S_96_964825
ORGANIZER;CN="Frank Kutter":MAILTO:NoReply@TischtennisLive.de
SUMMARY:TTV Radebeul 3 - SV Sachsenw. Dresden 5 (3. Stadtklasse Erwachsene, Gruppe 2)
DESCRIPTION:TTV Radebeul 3 - SV Sachsenw. Dresden 5 (3. Stadtklasse Erwachsene, Gruppe 2)
LOCATION:TH GS Friedrich Schiller, Hauptstraße 10 (Eingang Pestalozzistraße), 01445, Radebeul
CLASS:PUBLIC
DTSTART:20250917T171500Z
DTEND:20250917T194500Z
DTSTAMP:20260423T175055Z
END:VEVENT
BEGIN:VEVENT
UID: W4S_96_964828
ORGANIZER;CN="Frank Kutter":MAILTO:NoReply@TischtennisLive.de
SUMMARY:SV Sachsenw. Dresden 5 - TSV Leubnitz 6 (3. Stadtklasse Erwachsene, Gruppe 2)
DESCRIPTION:SV Sachsenw. Dresden 5 - TSV Leubnitz 6 (3. Stadtklasse Erwachsene, Gruppe 2)
LOCATION:33. Grundschule, Schilfweg 3, 01237, Dresden
CLASS:PUBLIC
DTSTART:20250922T170000Z
DTEND:20250922T193000Z
DTSTAMP:20260423T175055Z
END:VEVENT
BEGIN:VEVENT
UID: W4S_96_997826
ORGANIZER;CN="Toralf Hoffmann":MAILTO:NoReply@TischtennisLive.de
SUMMARY:SV Sachsenw. Dresden 5 - TTC Elbe Dresden 10 (Pokal Erwachsene)
DESCRIPTION:SV Sachsenw. Dresden 5 - TTC Elbe Dresden 10 (Pokal Erwachsene)
LOCATION:Schule am Landgraben, Pirnaer Landstr. 55, 01257, Dresden
CLASS:PUBLIC
DTSTART:20250929T170000Z
DTEND:20250929T193000Z
DTSTAMP:20260423T175055Z
END:VEVENT
BEGIN:VEVENT
UID: W4S_96_964835
ORGANIZER;CN="Frank Kutter":MAILTO:NoReply@TischtennisLive.de
SUMMARY:TTV Dresden 2007 7 - SV Sachsenw. Dresden 5 (3. Stadtklasse Erwachsene, Gruppe 2)
DESCRIPTION:TTV Dresden 2007 7 - SV Sachsenw. Dresden 5 (3. Stadtklasse Erwachsene, Gruppe 2)
LOCATION:BSZ für Wirtschaft „Prof. Dr. Zeigner“, Tieckstraße 14, 01099, Dresden
CLASS:PUBLIC
DTSTART:20251024T170000Z
DTEND:20251024T193000Z
DTSTAMP:20260423T175055Z
END:VEVENT
BEGIN:VEVENT
UID: W4S_96_964838
ORGANIZER;CN="Frank Kutter":MAILTO:NoReply@TischtennisLive.de
SUMMARY:SV Sachsenw. Dresden 5 - TSV Rotation Dresden 2 (3. Stadtklasse Erwachsene, Gruppe 2)
DESCRIPTION:SV Sachsenw. Dresden 5 - TSV Rotation Dresden 2 (3. Stadtklasse Erwachsene, Gruppe 2)
LOCATION:33. Grundschule, Schilfweg 3, 01237, Dresden
CLASS:PUBLIC
DTSTART:20251103T180000Z
DTEND:20251103T203000Z
DTSTAMP:20260423T175055Z
END:VEVENT
BEGIN:VEVENT
UID: W4S_96_964843
ORGANIZER;CN="Frank Kutter":MAILTO:NoReply@TischtennisLive.de
SUMMARY:SV Dresden-Mitte 7 - SV Sachsenw. Dresden 5 (3. Stadtklasse Erwachsene, Gruppe 2)
DESCRIPTION:SV Dresden-Mitte 7 - SV Sachsenw. Dresden 5 (3. Stadtklasse Erwachsene, Gruppe 2)
LOCATION:Berufsschulzentrum für Ernährung, Canalettostraße 8, 01307, Dresden
CLASS:PUBLIC
DTSTART:20251110T183000Z
DTEND:20251110T210000Z
DTSTAMP:20260423T175055Z
END:VEVENT
BEGIN:VEVENT
UID: W4S_96_964847
ORGANIZER;CN="Frank Kutter":MAILTO:NoReply@TischtennisLive.de
SUMMARY:TTC Elbe Dresden 11 - SV Sachsenw. Dresden 5 (3. Stadtklasse Erwachsene, Gruppe 2)
DESCRIPTION:TTC Elbe Dresden 11 - SV Sachsenw. Dresden 5 (3. Stadtklasse Erwachsene, Gruppe 2)
LOCATION:Turnhalle der 113. Grundschule, Georg-Nerlich-Str. 1, 01307, Dresden
CLASS:PUBLIC
DTSTART:20251124T180000Z
DTEND:20251124T203000Z
DTSTAMP:20260423T175055Z
END:VEVENT
BEGIN:VEVENT
UID: W4S_96_964852
ORGANIZER;CN="Frank Kutter":MAILTO:NoReply@TischtennisLive.de
SUMMARY:SV Sachsenw. Dresden 5 - TSV Cossebaude (3. Stadtklasse Erwachsene, Gruppe 2)
DESCRIPTION:SV Sachsenw. Dresden 5 - TSV Cossebaude (3. Stadtklasse Erwachsene, Gruppe 2)
LOCATION:Schule am Landgraben, Pirnaer Landstr. 55, 01257, Dresden
CLASS:PUBLIC
DTSTART:20251201T180000Z
DTEND:20251201T203000Z
DTSTAMP:20260423T175055Z
END:VEVENT
BEGIN:VEVENT
UID: W4S_96_964857
ORGANIZER;CN="Frank Kutter":MAILTO:NoReply@TischtennisLive.de
SUMMARY:SV Sachsenw. Dresden 5 - SG Kleinnaundorf (3. Stadtklasse Erwachsene, Gruppe 2)
DESCRIPTION:SV Sachsenw. Dresden 5 - SG Kleinnaundorf (3. Stadtklasse Erwachsene, Gruppe 2)
LOCATION:Schule am Landgraben, Pirnaer Landstr. 55, 01257, Dresden
CLASS:PUBLIC
DTSTART:20260112T180000Z
DTEND:20260112T203000Z
DTSTAMP:20260423T175055Z
END:VEVENT
BEGIN:VEVENT
UID: W4S_96_964866
ORGANIZER;CN="Frank Kutter":MAILTO:NoReply@TischtennisLive.de
SUMMARY:SV Universitätsk. DD 3 - SV Sachsenw. Dresden 5 (3. Stadtklasse Erwachsene, Gruppe 2)
DESCRIPTION:SV Universitätsk. DD 3 - SV Sachsenw. Dresden 5 (3. Stadtklasse Erwachsene, Gruppe 2)
LOCATION:Haus 25 im Universitätsklinikum, Medizinische Psyc, Fetscherstr. 74, 01307, Dresden
CLASS:PUBLIC
DTSTART:20260130T180000Z
DTEND:20260130T203000Z
DTSTAMP:20260423T175055Z
END:VEVENT
BEGIN:VEVENT
UID: W4S_96_964867
ORGANIZER;CN="Frank Kutter":MAILTO:NoReply@TischtennisLive.de
SUMMARY:SV Sachsenw. Dresden 5 - TTV Radebeul 3 (3. Stadtklasse Erwachsene, Gruppe 2)
DESCRIPTION:SV Sachsenw. Dresden 5 - TTV Radebeul 3 (3. Stadtklasse Erwachsene, Gruppe 2)
LOCATION:Schule am Landgraben, Pirnaer Landstr. 55, 01257, Dresden
CLASS:PUBLIC
DTSTART:20260202T180000Z
DTEND:20260202T203000Z
DTSTAMP:20260423T175055Z
END:VEVENT
BEGIN:VEVENT
UID: W4S_96_964872
ORGANIZER;CN="Frank Kutter":MAILTO:NoReply@TischtennisLive.de
SUMMARY:TSV Leubnitz 6 - SV Sachsenw. Dresden 5 (3. Stadtklasse Erwachsene, Gruppe 2)
DESCRIPTION:TSV Leubnitz 6 - SV Sachsenw. Dresden 5 (3. Stadtklasse Erwachsene, Gruppe 2)
LOCATION:Turnhalle der 68.Grundschule Dresden, Heiligenbornstraße 15, 01219, Dresden
CLASS:PUBLIC
DTSTART:20260223T183000Z
DTEND:20260223T210000Z
DTSTAMP:20260423T175055Z
END:VEVENT
BEGIN:VEVENT
UID: W4S_96_964879
ORGANIZER;CN="Frank Kutter":MAILTO:NoReply@TischtennisLive.de
SUMMARY:SV Sachsenw. Dresden 5 - TTV Dresden 2007 7 (3. Stadtklasse Erwachsene, Gruppe 2)
DESCRIPTION:SV Sachsenw. Dresden 5 - TTV Dresden 2007 7 (3. Stadtklasse Erwachsene, Gruppe 2)
LOCATION:Schule am Landgraben, Pirnaer Landstr. 55, 01257, Dresden
CLASS:PUBLIC
DTSTART:20260302T180000Z
DTEND:20260302T203000Z
DTSTAMP:20260423T175055Z
END:VEVENT
BEGIN:VEVENT
UID: W4S_96_964889
ORGANIZER;CN="Frank Kutter":MAILTO:NoReply@TischtennisLive.de
SUMMARY:SV Sachsenw. Dresden 5 - SV Dresden-Mitte 7 (3. Stadtklasse Erwachsene, Gruppe 2)
DESCRIPTION:SV Sachsenw. Dresden 5 - SV Dresden-Mitte 7 (3. Stadtklasse Erwachsene, Gruppe 2)
LOCATION:Schule am Landgraben, Pirnaer Landstr. 55, 01257, Dresden
CLASS:PUBLIC
DTSTART:20260316T180000Z
DTEND:20260316T203000Z
DTSTAMP:20260423T175055Z
END:VEVENT
BEGIN:VEVENT
UID: W4S_96_964885
ORGANIZER;CN="Frank Kutter":MAILTO:NoReply@TischtennisLive.de
SUMMARY:TSV Rotation Dresden 2 - SV Sachsenw. Dresden 5 (3. Stadtklasse Erwachsene, Gruppe 2)
DESCRIPTION:TSV Rotation Dresden 2 - SV Sachsenw. Dresden 5 (3. Stadtklasse Erwachsene, Gruppe 2)
LOCATION:BSZ Wirtschaft Dresden "Prof. Dr. Zeigner", Tieckstraße 14, 01099, Dresden
CLASS:PUBLIC
DTSTART:20260325T183000Z
DTEND:20260325T210000Z
DTSTAMP:20260423T175055Z
END:VEVENT
BEGIN:VEVENT
UID: W4S_96_964892
ORGANIZER;CN="Frank Kutter":MAILTO:NoReply@TischtennisLive.de
SUMMARY:SV Sachsenw. Dresden 5 - TTC Elbe Dresden 11 (3. Stadtklasse Erwachsene, Gruppe 2)
DESCRIPTION:SV Sachsenw. Dresden 5 - TTC Elbe Dresden 11 (3. Stadtklasse Erwachsene, Gruppe 2)
LOCATION:Schule am Landgraben, Pirnaer Landstr. 55, 01257, Dresden
CLASS:PUBLIC
DTSTART:20260330T170000Z
DTEND:20260330T193000Z
DTSTAMP:20260423T175055Z
END:VEVENT
BEGIN:VEVENT
UID: W4S_96_964897
ORGANIZER;CN="Frank Kutter":MAILTO:NoReply@TischtennisLive.de
SUMMARY:TSV Cossebaude - SV Sachsenw. Dresden 5 (3. Stadtklasse Erwachsene, Gruppe 2)
DESCRIPTION:TSV Cossebaude - SV Sachsenw. Dresden 5 (3. Stadtklasse Erwachsene, Gruppe 2)
LOCATION:Grundschule Cossebaude, Bahnhofstraße 5, 01156, Dresden
CLASS:PUBLIC
DTSTART:20260413T170000Z
DTEND:20260413T193000Z
DTSTAMP:20260423T175055Z
END:VEVENT
END:VCALENDAR

