BEGIN:VCALENDAR
VERSION:2.0
PRODID:https://Dresden-Stadt.tischtennislive.de
METHOD:PUBLISH
X-WR-CALNAME:TischtennisLive-Spieltermine
X-WR-TIMEZONE:Europe/Berlin
BEGIN:VEVENT
UID: W4S_96_964650
ORGANIZER;CN="Christlinde Schmidt":MAILTO:NoReply@TischtennisLive.de
SUMMARY:VfB Hellerau-Klotz. 5 - SV Sachsenw. Dresden 4 (2. Stadtklasse Erwachsene, Gruppe 2)
DESCRIPTION:VfB Hellerau-Klotz. 5 - SV Sachsenw. Dresden 4 (2. Stadtklasse Erwachsene, Gruppe 2)
LOCATION:Sporthalle, Karl-Liebknecht-Str. 53, 01109, Dresden
CLASS:PUBLIC
DTSTART:20250903T173000Z
DTEND:20250903T200000Z
DTSTAMP:20260423T174018Z
END:VEVENT
BEGIN:VEVENT
UID: W4S_96_964655
ORGANIZER;CN="Christlinde Schmidt":MAILTO:NoReply@TischtennisLive.de
SUMMARY:SV Sachsenw. Dresden 4 - BSV AOK Dresden 2 (2. Stadtklasse Erwachsene, Gruppe 2)
DESCRIPTION:SV Sachsenw. Dresden 4 - BSV AOK Dresden 2 (2. Stadtklasse Erwachsene, Gruppe 2)
LOCATION:Schule am Landgraben, Pirnaer Landstr. 55, 01257, Dresden
CLASS:PUBLIC
DTSTART:20250912T173000Z
DTEND:20250912T200000Z
DTSTAMP:20260423T174018Z
END:VEVENT
BEGIN:VEVENT
UID: W4S_96_964658
ORGANIZER;CN="Christlinde Schmidt":MAILTO:NoReply@TischtennisLive.de
SUMMARY:Sportfreunde Dresden 4 - SV Sachsenw. Dresden 4 (2. Stadtklasse Erwachsene, Gruppe 2)
DESCRIPTION:Sportfreunde Dresden 4 - SV Sachsenw. Dresden 4 (2. Stadtklasse Erwachsene, Gruppe 2)
LOCATION:55.MS, Plauenscher Ring 9, 01187, Dresden
CLASS:PUBLIC
DTSTART:20250918T171500Z
DTEND:20250918T194500Z
DTSTAMP:20260423T174018Z
END:VEVENT
BEGIN:VEVENT
UID: W4S_96_964664
ORGANIZER;CN="Christlinde Schmidt":MAILTO:NoReply@TischtennisLive.de
SUMMARY:SV Sachsenw. Dresden 4 - SV Dresden-Reick (2. Stadtklasse Erwachsene, Gruppe 2)
DESCRIPTION:SV Sachsenw. Dresden 4 - SV Dresden-Reick (2. Stadtklasse Erwachsene, Gruppe 2)
LOCATION:Schule am Landgraben, Pirnaer Landstr. 55, 01257, Dresden
CLASS:PUBLIC
DTSTART:20250926T173000Z
DTEND:20250926T200000Z
DTSTAMP:20260423T174018Z
END:VEVENT
BEGIN:VEVENT
UID: W4S_96_997810
ORGANIZER;CN="Toralf Hoffmann":MAILTO:NoReply@TischtennisLive.de
SUMMARY:TSV Leubnitz 6 - SV Sachsenw. Dresden 4 (Pokal Erwachsene)
DESCRIPTION:TSV Leubnitz 6 - SV Sachsenw. Dresden 4 (Pokal Erwachsene)
LOCATION:Turnhalle der 68.Grundschule Dresden, Heiligenbornstraße 15, 01219, Dresden
CLASS:PUBLIC
DTSTART:20250929T173000Z
DTEND:20250929T200000Z
DTSTAMP:20260423T174018Z
END:VEVENT
BEGIN:VEVENT
UID: W4S_96_964668
ORGANIZER;CN="Christlinde Schmidt":MAILTO:NoReply@TischtennisLive.de
SUMMARY:SV Dresden-Loschwitz 3 - SV Sachsenw. Dresden 4 (2. Stadtklasse Erwachsene, Gruppe 2)
DESCRIPTION:SV Dresden-Loschwitz 3 - SV Sachsenw. Dresden 4 (2. Stadtklasse Erwachsene, Gruppe 2)
LOCATION:TH 120.GS "Am Geberbach", Trattendorfer Str. 1, 01239, Dresden
CLASS:PUBLIC
DTSTART:20251024T173000Z
DTEND:20251024T200000Z
DTSTAMP:20260423T174018Z
END:VEVENT
BEGIN:VEVENT
UID: W4S_96_964672
ORGANIZER;CN="Christlinde Schmidt":MAILTO:NoReply@TischtennisLive.de
SUMMARY:SV Sachsenw. Dresden 4 - TTC Elbe Dresden 10 (2. Stadtklasse Erwachsene, Gruppe 2)
DESCRIPTION:SV Sachsenw. Dresden 4 - TTC Elbe Dresden 10 (2. Stadtklasse Erwachsene, Gruppe 2)
LOCATION:Schule am Landgraben, Pirnaer Landstr. 55, 01257, Dresden
CLASS:PUBLIC
DTSTART:20251107T183000Z
DTEND:20251107T210000Z
DTSTAMP:20260423T174018Z
END:VEVENT
BEGIN:VEVENT
UID: W4S_96_964676
ORGANIZER;CN="Christlinde Schmidt":MAILTO:NoReply@TischtennisLive.de
SUMMARY:SV Motor Mickten-DD 6 - SV Sachsenw. Dresden 4 (2. Stadtklasse Erwachsene, Gruppe 2)
DESCRIPTION:SV Motor Mickten-DD 6 - SV Sachsenw. Dresden 4 (2. Stadtklasse Erwachsene, Gruppe 2)
LOCATION:Sportcenter Motor Mickten, Pestalozziplatz 20, 01127, Dresden
CLASS:PUBLIC
DTSTART:20251114T183000Z
DTEND:20251114T210000Z
DTSTAMP:20260423T174018Z
END:VEVENT
BEGIN:VEVENT
UID: W4S_96_1000659
ORGANIZER;CN="Toralf Hoffmann":MAILTO:NoReply@TischtennisLive.de
SUMMARY:SV Sachsenw. Dresden 4 - SSV Turbine Dresden (Pokal Erwachsene)
DESCRIPTION:SV Sachsenw. Dresden 4 - SSV Turbine Dresden (Pokal Erwachsene)
LOCATION:
CLASS:PUBLIC
DTSTART:20251121T183000Z
DTEND:20251121T210000Z
DTSTAMP:20260423T174018Z
END:VEVENT
BEGIN:VEVENT
UID: W4S_96_964680
ORGANIZER;CN="Christlinde Schmidt":MAILTO:NoReply@TischtennisLive.de
SUMMARY:SV Sachsenw. Dresden 4 - SG Dresdner Bank 3 (2. Stadtklasse Erwachsene, Gruppe 2)
DESCRIPTION:SV Sachsenw. Dresden 4 - SG Dresdner Bank 3 (2. Stadtklasse Erwachsene, Gruppe 2)
LOCATION:Schule am Landgraben, Pirnaer Landstr. 55, 01257, Dresden
CLASS:PUBLIC
DTSTART:20251128T183000Z
DTEND:20251128T210000Z
DTSTAMP:20260423T174018Z
END:VEVENT
BEGIN:VEVENT
UID: W4S_96_964692
ORGANIZER;CN="Christlinde Schmidt":MAILTO:NoReply@TischtennisLive.de
SUMMARY:BSV AOK Dresden 2 - SV Sachsenw. Dresden 4 (2. Stadtklasse Erwachsene, Gruppe 2)
DESCRIPTION:BSV AOK Dresden 2 - SV Sachsenw. Dresden 4 (2. Stadtklasse Erwachsene, Gruppe 2)
LOCATION:117. Grundschule Dresden, Reichenbachstraße 12, 01069, Dresden
CLASS:PUBLIC
DTSTART:20260130T183000Z
DTEND:20260130T210000Z
DTSTAMP:20260423T174018Z
END:VEVENT
BEGIN:VEVENT
UID: W4S_96_964697
ORGANIZER;CN="Christlinde Schmidt":MAILTO:NoReply@TischtennisLive.de
SUMMARY:SV Sachsenw. Dresden 4 - Sportfreunde Dresden 4 (2. Stadtklasse Erwachsene, Gruppe 2)
DESCRIPTION:SV Sachsenw. Dresden 4 - Sportfreunde Dresden 4 (2. Stadtklasse Erwachsene, Gruppe 2)
LOCATION:Schule am Landgraben, Pirnaer Landstr. 55, 01257, Dresden
CLASS:PUBLIC
DTSTART:20260206T183000Z
DTEND:20260206T210000Z
DTSTAMP:20260423T174018Z
END:VEVENT
BEGIN:VEVENT
UID: W4S_96_964699
ORGANIZER;CN="Christlinde Schmidt":MAILTO:NoReply@TischtennisLive.de
SUMMARY:SV Dresden-Reick - SV Sachsenw. Dresden 4 (2. Stadtklasse Erwachsene, Gruppe 2)
DESCRIPTION:SV Dresden-Reick - SV Sachsenw. Dresden 4 (2. Stadtklasse Erwachsene, Gruppe 2)
LOCATION:Turnhalle der 128. MS, Rudolf-Bergander-Ring 3, 01219, Dresden
CLASS:PUBLIC
DTSTART:20260227T180000Z
DTEND:20260227T203000Z
DTSTAMP:20260423T174018Z
END:VEVENT
BEGIN:VEVENT
UID: W4S_96_964704
ORGANIZER;CN="Christlinde Schmidt":MAILTO:NoReply@TischtennisLive.de
SUMMARY:SV Sachsenw. Dresden 4 - SV Dresden-Loschwitz 3 (2. Stadtklasse Erwachsene, Gruppe 2)
DESCRIPTION:SV Sachsenw. Dresden 4 - SV Dresden-Loschwitz 3 (2. Stadtklasse Erwachsene, Gruppe 2)
LOCATION:Schule am Landgraben, Pirnaer Landstr. 55, 01257, Dresden
CLASS:PUBLIC
DTSTART:20260306T183000Z
DTEND:20260306T210000Z
DTSTAMP:20260423T174018Z
END:VEVENT
BEGIN:VEVENT
UID: W4S_96_964707
ORGANIZER;CN="Christlinde Schmidt":MAILTO:NoReply@TischtennisLive.de
SUMMARY:TTC Elbe Dresden 10 - SV Sachsenw. Dresden 4 (2. Stadtklasse Erwachsene, Gruppe 2)
DESCRIPTION:TTC Elbe Dresden 10 - SV Sachsenw. Dresden 4 (2. Stadtklasse Erwachsene, Gruppe 2)
LOCATION:Turnhalle der 113. Grundschule, Georg-Nerlich-Str. 1, 01307, Dresden
CLASS:PUBLIC
DTSTART:20260313T183000Z
DTEND:20260313T210000Z
DTSTAMP:20260423T174018Z
END:VEVENT
BEGIN:VEVENT
UID: W4S_96_964713
ORGANIZER;CN="Christlinde Schmidt":MAILTO:NoReply@TischtennisLive.de
SUMMARY:SV Sachsenw. Dresden 4 - SV Motor Mickten-DD 6 (2. Stadtklasse Erwachsene, Gruppe 2)
DESCRIPTION:SV Sachsenw. Dresden 4 - SV Motor Mickten-DD 6 (2. Stadtklasse Erwachsene, Gruppe 2)
LOCATION:Schule am Landgraben, Pirnaer Landstr. 55, 01257, Dresden
CLASS:PUBLIC
DTSTART:20260320T183000Z
DTEND:20260320T210000Z
DTSTAMP:20260423T174018Z
END:VEVENT
BEGIN:VEVENT
UID: W4S_96_964689
ORGANIZER;CN="Christlinde Schmidt":MAILTO:NoReply@TischtennisLive.de
SUMMARY:SV Sachsenw. Dresden 4 - VfB Hellerau-Klotz. 5 (2. Stadtklasse Erwachsene, Gruppe 2)
DESCRIPTION:SV Sachsenw. Dresden 4 - VfB Hellerau-Klotz. 5 (2. Stadtklasse Erwachsene, Gruppe 2)
LOCATION:Schule am Landgraben, Pirnaer Landstr. 55, 01257, Dresden
CLASS:PUBLIC
DTSTART:20260324T183000Z
DTEND:20260324T210000Z
DTSTAMP:20260423T174018Z
END:VEVENT
BEGIN:VEVENT
UID: W4S_96_964714
ORGANIZER;CN="Christlinde Schmidt":MAILTO:NoReply@TischtennisLive.de
SUMMARY:SG Dresdner Bank 3 - SV Sachsenw. Dresden 4 (2. Stadtklasse Erwachsene, Gruppe 2)
DESCRIPTION:SG Dresdner Bank 3 - SV Sachsenw. Dresden 4 (2. Stadtklasse Erwachsene, Gruppe 2)
LOCATION:TH der Schule für Erziehungshilfe (ehem. 130. GS), Karl-Laux-Strasse 5, 01219, Dresden
CLASS:PUBLIC
DTSTART:20260401T173000Z
DTEND:20260401T200000Z
DTSTAMP:20260423T174018Z
END:VEVENT
END:VCALENDAR

